BEGIN:VCALENDAR
VERSION:2.0
PRODID:-//eventon.com NONSGML v1.0//EN
CALSCALE:GREGORIAN
METHOD:PUBLISH
BEGIN:VEVENT
UID:69e7a2b46438e
DTSTAMP:20260421T161548Z
DTSTART:20260315T040000Z
DTEND:20260315T065900Z
LOCATION:
SUMMARY:Karaoke at Baselines Pub (South Surrey)
DESCRIPTION:Karaoke at Baselines Pub (South Surrey)\nhttps://afe.events/eve
 nts/karaoke-at-baselines-pub-south-surrey/
URL:https://afe.events/events/karaoke-at-baselines-pub-south-surrey/
END:VEVENT
END:VCALENDAR